BEGIN:VCALENDAR
VERSION:2.0
PRODID:-//pretix//pretix.eu//
BEGIN:VTIMEZONE
TZID:Europe/Berlin
BEGIN:STANDARD
DTSTART:20001029T040000
RRULE:FREQ=YEARLY;BYDAY=-1SU;BYMONTH=10
TZNAME:CET
TZOFFSETFROM:+0200
TZOFFSETTO:+0100
END:STANDARD
BEGIN:DAYLIGHT
DTSTART:20000326T030000
RRULE:FREQ=YEARLY;BYDAY=-1SU;BYMONTH=3
TZNAME:CEST
TZOFFSETFROM:+0100
TZOFFSETTO:+0200
END:DAYLIGHT
END:VTIMEZONE
BEGIN:VEVENT
UID:pretix-planetarium-nuernberg-tickets-4923706@tickets.planetarium.nuernb
 erg.de
DTSTART;TZID=Europe/Berlin:20260505T193000
DTEND;TZID=Europe/Berlin:20260505T200000
DESCRIPTION:Tickets: https://tickets.planetarium.nuernberg.de/tickets/49237
 06/\nEinlass: 05.05.2026 19:10\nVeranstalter: Nicolaus-Copernicus-Planetar
 ium Nürnberg
DTSTAMP:20260425T121117Z
LOCATION:Nicolaus-Copernicus-Planetarium Nürnberg
SUMMARY:Wissenschaft zwischen Fakten und Wünschen
END:VEVENT
END:VCALENDAR
