BEGIN:VCALENDAR
VERSION:2.0
PRODID:-//pretix//pretix.eu//
BEGIN:VTIMEZONE
TZID:Europe/Berlin
BEGIN:STANDARD
DTSTART:20001029T040000
RRULE:FREQ=YEARLY;BYDAY=-1SU;BYMONTH=10
TZNAME:CET
TZOFFSETFROM:+0200
TZOFFSETTO:+0100
END:STANDARD
BEGIN:DAYLIGHT
DTSTART:20000326T030000
RRULE:FREQ=YEARLY;BYDAY=-1SU;BYMONTH=3
TZNAME:CEST
TZOFFSETFROM:+0100
TZOFFSETTO:+0200
END:DAYLIGHT
END:VTIMEZONE
BEGIN:VEVENT
UID:pretix-planetarium-nuernberg-tickets-4919795@tickets.planetarium.nuernb
 erg.de
DTSTART;TZID=Europe/Berlin:20260503T150000
DTEND;TZID=Europe/Berlin:20260503T160000
DESCRIPTION:Tickets: https://tickets.planetarium.nuernberg.de/tickets/49197
 95/\nEinlass: 03.05.2026 14:40\nVeranstalter: Nicolaus-Copernicus-Planetar
 ium Nürnberg
DTSTAMP:20260425T104538Z
LOCATION:Nicolaus-Copernicus-Planetarium Nürnberg
SUMMARY:Plani und Wuschel retten die Sterne
END:VEVENT
END:VCALENDAR
