BEGIN:VCALENDAR
VERSION:2.0
PRODID:-//pretix//pretix.eu//
BEGIN:VTIMEZONE
TZID:Europe/Berlin
BEGIN:STANDARD
DTSTART:20001029T040000
RRULE:FREQ=YEARLY;BYDAY=-1SU;BYMONTH=10
TZNAME:CET
TZOFFSETFROM:+0200
TZOFFSETTO:+0100
END:STANDARD
BEGIN:DAYLIGHT
DTSTART:20000326T030000
RRULE:FREQ=YEARLY;BYDAY=-1SU;BYMONTH=3
TZNAME:CEST
TZOFFSETFROM:+0100
TZOFFSETTO:+0200
END:DAYLIGHT
END:VTIMEZONE
BEGIN:VEVENT
UID:pretix-planetarium-nuernberg-tickets-4891293@tickets.planetarium.nuernb
 erg.de
DTSTART;TZID=Europe/Berlin:20260305T150000
DTEND;TZID=Europe/Berlin:20260305T155000
DESCRIPTION:Tickets: https://tickets.planetarium.nuernberg.de/tickets/48912
 93/\nEinlass: 05.03.2026 14:00\nVeranstalter: Nicolaus-Copernicus-Planetar
 ium Nürnberg
DTSTAMP:20260425T104537Z
LOCATION:Nicolaus-Copernicus-Planetarium Nürnberg
SUMMARY:ARMSTRONG - Die abenteuerliche Reise einer Maus zum Mond
END:VEVENT
END:VCALENDAR
