BEGIN:VCALENDAR
VERSION:2.0
PRODID:-//pretix//pretix.eu//
BEGIN:VTIMEZONE
TZID:Europe/Berlin
BEGIN:STANDARD
DTSTART:20001029T040000
RRULE:FREQ=YEARLY;BYDAY=-1SU;BYMONTH=10
TZNAME:CET
TZOFFSETFROM:+0200
TZOFFSETTO:+0100
END:STANDARD
BEGIN:DAYLIGHT
DTSTART:20000326T030000
RRULE:FREQ=YEARLY;BYDAY=-1SU;BYMONTH=3
TZNAME:CEST
TZOFFSETFROM:+0100
TZOFFSETTO:+0200
END:DAYLIGHT
END:VTIMEZONE
BEGIN:VEVENT
UID:pretix-planetarium-nuernberg-schulveranstaltungen-4918954@tickets.plane
 tarium.nuernberg.de
DTSTART;TZID=Europe/Berlin:20260617T110000
DTEND;TZID=Europe/Berlin:20260617T120000
DESCRIPTION:Tickets: https://tickets.planetarium.nuernberg.de/schulveransta
 ltungen/4918954/\nEinlass: 17.06.2026 10:30\nVeranstalter: Nicolaus-Copern
 icus-Planetarium Nürnberg
DTSTAMP:20260425T122319Z
LOCATION:Nicolaus-Copernicus Planetarium Nürnberg
SUMMARY:Wählbare Veranstaltung
END:VEVENT
END:VCALENDAR
